BEGIN:VCALENDAR
VERSION:2.0
PRODID:-//Tukios.com/
BEGIN:VEVENT
UID:5c75bf6f-0439-4adc-9fd2-6128c33d6968@www.connellydundalk.com
DTSTAMP:20260423T155045Z
DTSTART:20260427T170000Z
DTEND:20260427T180000Z
SUMMARY:Funeral Service
DESCRIPTION:
URL:https://www.connellydundalk.com/obituaries/janet-pierson
LOCATION: 7110 Sollers Point Rd  Dundalk MD 21222
GEO:39.2658594;-76.5176067
END:VEVENT
END:VCALENDAR