BEGIN:VCALENDAR
VERSION:2.0
PRODID:-//Tukios.com/
BEGIN:VEVENT
UID:0eaa8fe6-2a1c-422d-84ca-068709e88549@www.connellydundalk.com
DTSTAMP:20260421T154548Z
DTSTART:20260423
SUMMARY:Graveside Service
DESCRIPTION:
URL:https://www.connellydundalk.com/obituaries/jonathan-largent
LOCATION:Gardens of Faith Memorial Gardens 5598 Trumps Mill Rd  Baltimore 
	MD 21206
GEO:39.3550417;-76.5076335
END:VEVENT
END:VCALENDAR