BEGIN:VCALENDAR
VERSION:2.0
PRODID:-//Tukios.com/
BEGIN:VEVENT
UID:8583bec8-7785-4acd-b5dc-6f278f9cfe95@www.connellydundalk.com
DTSTAMP:20260421T154251Z
DTSTART:20260423T150000Z
DTEND:20260423T160000Z
SUMMARY:Funeral Service
DESCRIPTION:
URL:https://www.connellydundalk.com/obituaries/jonathan-largent
LOCATION:Central Christian Church 7411 Rossville Blvd  Rosedale MD 21237
GEO:39.3582058;-76.4858811
END:VEVENT
END:VCALENDAR