BEGIN:VCALENDAR
VERSION:2.0
PRODID:-//Tukios.com/
BEGIN:VEVENT
UID:64669976-8fbe-4af9-b8bc-d7968ebf6bfe@www.connellydundalk.com
DTSTAMP:20260421T154613Z
DTSTART:20260423T140000Z
DTEND:20260423T150000Z
SUMMARY:Public Viewing
DESCRIPTION:
URL:https://www.connellydundalk.com/obituaries/jonathan-largent
LOCATION:Central Christian Church 7411 Rossville Blvd  Rosedale MD 21237
GEO:39.3582058;-76.4858811
END:VEVENT
END:VCALENDAR