BEGIN:VCALENDAR
VERSION:2.0
PRODID:-//Tukios.com/
BEGIN:VEVENT
UID:848f0ac1-8ca6-429c-ae77-0b0db4b830fb@www.connellydundalk.com
DTSTAMP:20260422T204005Z
DTSTART:20260427
SUMMARY:Graveside Service
DESCRIPTION:
URL:https://www.connellydundalk.com/obituaries/karen-wolf
LOCATION:Oak Lawn Cemetery 7225 Eastern Ave.  Eastfield MD 21224
GEO:39.2879432;-76.5220875
END:VEVENT
END:VCALENDAR