BEGIN:VCALENDAR
VERSION:2.0
PRODID:-//Tukios.com/
BEGIN:VEVENT
UID:cbc96996-c274-4728-85d1-2cad9aeed151@www.connellydundalk.com
DTSTAMP:20260422T203800Z
DTSTART:20260427T140000Z
DTEND:20260427T150000Z
SUMMARY:Funeral Service
DESCRIPTION:
URL:https://www.connellydundalk.com/obituaries/karen-wolf
LOCATION: 7110 Sollers Point Rd  Dundalk MD 21222
GEO:39.2658594;-76.5176067
END:VEVENT
END:VCALENDAR