BEGIN:VCALENDAR
VERSION:2.0
PRODID:-//Tukios.com/
BEGIN:VEVENT
UID:a685237c-c57d-4ba6-bc21-9886874a296b@www.connellydundalk.com
DTSTAMP:20260422T203552Z
DTSTART:20260426T220000Z
DTEND:20260427T000000Z
SUMMARY:Public Viewing
DESCRIPTION:
URL:https://www.connellydundalk.com/obituaries/karen-wolf
LOCATION: 7110 Sollers Point Rd  Dundalk MD 21222
GEO:39.2658594;-76.5176067
END:VEVENT
END:VCALENDAR