BEGIN:VCALENDAR
VERSION:2.0
PRODID:-//Tukios.com/
BEGIN:VEVENT
UID:217783e6-7b7d-4687-9508-06a143c48034@www.connellydundalk.com
DTSTAMP:20260422T204005Z
DTSTART:20260426T180000Z
DTEND:20260426T200000Z
SUMMARY:Public Viewing
DESCRIPTION:
URL:https://www.connellydundalk.com/obituaries/karen-wolf
LOCATION: 7110 Sollers Point Rd  Dundalk MD 21222
GEO:39.2658594;-76.5176067
END:VEVENT
END:VCALENDAR